BEGIN:VCALENDAR
VERSION:2.0
PRODID:-//La Buena 94.3 FM - ECPv5.6.0//NONSGML v1.0//EN
CALSCALE:GREGORIAN
METHOD:PUBLISH
X-WR-CALNAME:La Buena 94.3 FM
X-ORIGINAL-URL:https://www.labuena943.com
X-WR-CALDESC:Events for La Buena 94.3 FM
BEGIN:VTIMEZONE
TZID:America/Phoenix
BEGIN:STANDARD
TZOFFSETFROM:-0700
TZOFFSETTO:-0700
TZNAME:MST
DTSTART:20250101T000000
END:STANDARD
END:VTIMEZONE
BEGIN:VEVENT
DTSTART;TZID=America/Phoenix:20250828T183000
DTEND;TZID=America/Phoenix:20250828T200000
DTSTAMP:20260419T090732
CREATED:20250719T150521Z
LAST-MODIFIED:20250719T150521Z
UID:72739-1756405800-1756411200@www.labuena943.com
SUMMARY:THURSDAYS W/ DJ TRIVIA @ Tesoro Latin Kitchen & Cantina
DESCRIPTION:Todos los jueves \n¡Noche de Trivia los jueves! Trivia de conocimiento general que es divertida\, gratis para jugar y los 3 mejores equipos ganan tarjetas de regalo. ¡La trivia con DJ comienza a las 6:30 de la tarde! ¡Margaritas a $3 TODO EL DÍA! \n06:30 PM – 08:00 PM
URL:https://www.labuena943.com/event/thursdays-w-dj-trivia-tesoro-latin-kitchen-cantina/2025-08-28/
LOCATION:Tesoro Latin Kitchen & Cantina\, 4420 N Oracle Rd\, Tucson\, AZ\, 85705\, United States
CATEGORIES:Eventos
ATTACH;FMTTYPE=image/png:https://dehayf5mhw1h7.cloudfront.net/wp-content/uploads/sites/2171/2025/07/19072231/trivia-night.png
END:VEVENT
BEGIN:VEVENT
DTSTART;TZID=America/Phoenix:20250821T183000
DTEND;TZID=America/Phoenix:20250821T200000
DTSTAMP:20260419T090732
CREATED:20250719T150520Z
LAST-MODIFIED:20250719T150520Z
UID:72738-1755801000-1755806400@www.labuena943.com
SUMMARY:THURSDAYS W/ DJ TRIVIA @ Tesoro Latin Kitchen & Cantina
DESCRIPTION:Todos los jueves \n¡Noche de Trivia los jueves! Trivia de conocimiento general que es divertida\, gratis para jugar y los 3 mejores equipos ganan tarjetas de regalo. ¡La trivia con DJ comienza a las 6:30 de la tarde! ¡Margaritas a $3 TODO EL DÍA! \n06:30 PM – 08:00 PM
URL:https://www.labuena943.com/event/thursdays-w-dj-trivia-tesoro-latin-kitchen-cantina/2025-08-21/
LOCATION:Tesoro Latin Kitchen & Cantina\, 4420 N Oracle Rd\, Tucson\, AZ\, 85705\, United States
CATEGORIES:Eventos
ATTACH;FMTTYPE=image/png:https://dehayf5mhw1h7.cloudfront.net/wp-content/uploads/sites/2171/2025/07/19072231/trivia-night.png
END:VEVENT
BEGIN:VEVENT
DTSTART;TZID=America/Phoenix:20250814T183000
DTEND;TZID=America/Phoenix:20250814T200000
DTSTAMP:20260419T090732
CREATED:20250719T150520Z
LAST-MODIFIED:20250719T150520Z
UID:72737-1755196200-1755201600@www.labuena943.com
SUMMARY:THURSDAYS W/ DJ TRIVIA @ Tesoro Latin Kitchen & Cantina
DESCRIPTION:Todos los jueves \n¡Noche de Trivia los jueves! Trivia de conocimiento general que es divertida\, gratis para jugar y los 3 mejores equipos ganan tarjetas de regalo. ¡La trivia con DJ comienza a las 6:30 de la tarde! ¡Margaritas a $3 TODO EL DÍA! \n06:30 PM – 08:00 PM
URL:https://www.labuena943.com/event/thursdays-w-dj-trivia-tesoro-latin-kitchen-cantina/2025-08-14/
LOCATION:Tesoro Latin Kitchen & Cantina\, 4420 N Oracle Rd\, Tucson\, AZ\, 85705\, United States
CATEGORIES:Eventos
ATTACH;FMTTYPE=image/png:https://dehayf5mhw1h7.cloudfront.net/wp-content/uploads/sites/2171/2025/07/19072231/trivia-night.png
END:VEVENT
BEGIN:VEVENT
DTSTART;TZID=America/Phoenix:20250807T183000
DTEND;TZID=America/Phoenix:20250807T200000
DTSTAMP:20260419T090732
CREATED:20250719T150519Z
LAST-MODIFIED:20250719T150519Z
UID:72736-1754591400-1754596800@www.labuena943.com
SUMMARY:THURSDAYS W/ DJ TRIVIA @ Tesoro Latin Kitchen & Cantina
DESCRIPTION:Todos los jueves \n¡Noche de Trivia los jueves! Trivia de conocimiento general que es divertida\, gratis para jugar y los 3 mejores equipos ganan tarjetas de regalo. ¡La trivia con DJ comienza a las 6:30 de la tarde! ¡Margaritas a $3 TODO EL DÍA! \n06:30 PM – 08:00 PM
URL:https://www.labuena943.com/event/thursdays-w-dj-trivia-tesoro-latin-kitchen-cantina/2025-08-07/
LOCATION:Tesoro Latin Kitchen & Cantina\, 4420 N Oracle Rd\, Tucson\, AZ\, 85705\, United States
CATEGORIES:Eventos
ATTACH;FMTTYPE=image/png:https://dehayf5mhw1h7.cloudfront.net/wp-content/uploads/sites/2171/2025/07/19072231/trivia-night.png
END:VEVENT
BEGIN:VEVENT
DTSTART;TZID=America/Phoenix:20250731T183000
DTEND;TZID=America/Phoenix:20250731T200000
DTSTAMP:20260419T090732
CREATED:20250719T150519Z
LAST-MODIFIED:20250719T150519Z
UID:72735-1753986600-1753992000@www.labuena943.com
SUMMARY:THURSDAYS W/ DJ TRIVIA @ Tesoro Latin Kitchen & Cantina
DESCRIPTION:Todos los jueves \n¡Noche de Trivia los jueves! Trivia de conocimiento general que es divertida\, gratis para jugar y los 3 mejores equipos ganan tarjetas de regalo. ¡La trivia con DJ comienza a las 6:30 de la tarde! ¡Margaritas a $3 TODO EL DÍA! \n06:30 PM – 08:00 PM
URL:https://www.labuena943.com/event/thursdays-w-dj-trivia-tesoro-latin-kitchen-cantina/2025-07-31/
LOCATION:Tesoro Latin Kitchen & Cantina\, 4420 N Oracle Rd\, Tucson\, AZ\, 85705\, United States
CATEGORIES:Eventos
ATTACH;FMTTYPE=image/png:https://dehayf5mhw1h7.cloudfront.net/wp-content/uploads/sites/2171/2025/07/19072231/trivia-night.png
END:VEVENT
BEGIN:VEVENT
DTSTART;TZID=America/Phoenix:20250724T183000
DTEND;TZID=America/Phoenix:20250724T200000
DTSTAMP:20260419T090732
CREATED:20250719T150519Z
LAST-MODIFIED:20250719T150519Z
UID:72732-1753381800-1753387200@www.labuena943.com
SUMMARY:THURSDAYS W/ DJ TRIVIA @ Tesoro Latin Kitchen & Cantina
DESCRIPTION:Todos los jueves \n¡Noche de Trivia los jueves! Trivia de conocimiento general que es divertida\, gratis para jugar y los 3 mejores equipos ganan tarjetas de regalo. ¡La trivia con DJ comienza a las 6:30 de la tarde! ¡Margaritas a $3 TODO EL DÍA! \n06:30 PM – 08:00 PM
URL:https://www.labuena943.com/event/thursdays-w-dj-trivia-tesoro-latin-kitchen-cantina/2025-07-24/
LOCATION:Tesoro Latin Kitchen & Cantina\, 4420 N Oracle Rd\, Tucson\, AZ\, 85705\, United States
CATEGORIES:Eventos
ATTACH;FMTTYPE=image/png:https://dehayf5mhw1h7.cloudfront.net/wp-content/uploads/sites/2171/2025/07/19072231/trivia-night.png
END:VEVENT
END:VCALENDAR